BEGIN:VCALENDAR
VERSION:2.0
PRODID:-//ISK Emma - ECPv6.15.20//NONSGML v1.0//EN
CALSCALE:GREGORIAN
METHOD:PUBLISH
X-WR-CALNAME:ISK Emma
X-ORIGINAL-URL:https://isk-emma.nl
X-WR-CALDESC:Evenementen voor ISK Emma
REFRESH-INTERVAL;VALUE=DURATION:PT1H
X-Robots-Tag:noindex
X-PUBLISHED-TTL:PT1H
BEGIN:VTIMEZONE
TZID:Europe/Amsterdam
BEGIN:DAYLIGHT
TZOFFSETFROM:+0100
TZOFFSETTO:+0200
TZNAME:CEST
DTSTART:20250330T010000
END:DAYLIGHT
BEGIN:STANDARD
TZOFFSETFROM:+0200
TZOFFSETTO:+0100
TZNAME:CET
DTSTART:20251026T010000
END:STANDARD
BEGIN:DAYLIGHT
TZOFFSETFROM:+0100
TZOFFSETTO:+0200
TZNAME:CEST
DTSTART:20260329T010000
END:DAYLIGHT
BEGIN:STANDARD
TZOFFSETFROM:+0200
TZOFFSETTO:+0100
TZNAME:CET
DTSTART:20261025T010000
END:STANDARD
BEGIN:DAYLIGHT
TZOFFSETFROM:+0100
TZOFFSETTO:+0200
TZNAME:CEST
DTSTART:20270328T010000
END:DAYLIGHT
BEGIN:STANDARD
TZOFFSETFROM:+0200
TZOFFSETTO:+0100
TZNAME:CET
DTSTART:20271031T010000
END:STANDARD
END:VTIMEZONE
BEGIN:VEVENT
DTSTART;VALUE=DATE:20260420
DTEND;VALUE=DATE:20260506
DTSTAMP:20260422T144121
CREATED:20250821T071813Z
LAST-MODIFIED:20250821T071813Z
UID:1558-1776643200-1778025599@isk-emma.nl
SUMMARY:Meivakantie
DESCRIPTION:
URL:https://isk-emma.nl/item/meivakantie/
END:VEVENT
BEGIN:VEVENT
DTSTART;VALUE=DATE:20260514
DTEND;VALUE=DATE:20260516
DTSTAMP:20260422T144121
CREATED:20250821T071900Z
LAST-MODIFIED:20250821T071900Z
UID:1560-1778716800-1778889599@isk-emma.nl
SUMMARY:Hemelvaart (vrije dagen)
DESCRIPTION:
URL:https://isk-emma.nl/item/hemelvaart-vrije-dagen/
END:VEVENT
BEGIN:VEVENT
DTSTART;VALUE=DATE:20260525
DTEND;VALUE=DATE:20260526
DTSTAMP:20260422T144121
CREATED:20250821T071930Z
LAST-MODIFIED:20250821T071930Z
UID:1562-1779667200-1779753599@isk-emma.nl
SUMMARY:Pinksteren
DESCRIPTION:
URL:https://isk-emma.nl/item/pinksteren/
END:VEVENT
BEGIN:VEVENT
DTSTART;VALUE=DATE:20260623
DTEND;VALUE=DATE:20260701
DTSTAMP:20260422T144121
CREATED:20250821T072028Z
LAST-MODIFIED:20250821T072028Z
UID:1564-1782172800-1782863999@isk-emma.nl
SUMMARY:Projectweek
DESCRIPTION:
URL:https://isk-emma.nl/item/projectweek-2/
END:VEVENT
BEGIN:VEVENT
DTSTART;VALUE=DATE:20260701
DTEND;VALUE=DATE:20260702
DTSTAMP:20260422T144121
CREATED:20250821T072108Z
LAST-MODIFIED:20250821T072108Z
UID:1566-1782864000-1782950399@isk-emma.nl
SUMMARY:Multicultifeest
DESCRIPTION:
URL:https://isk-emma.nl/item/multicultifeest/
END:VEVENT
BEGIN:VEVENT
DTSTART;VALUE=DATE:20260713
DTEND;VALUE=DATE:20260822
DTSTAMP:20260422T144121
CREATED:20250821T072150Z
LAST-MODIFIED:20250821T072150Z
UID:1568-1783900800-1787356799@isk-emma.nl
SUMMARY:Zomervakantie
DESCRIPTION:
URL:https://isk-emma.nl/item/zomervakantie-2/
END:VEVENT
END:VCALENDAR